Package: CTdata Version: 1.4.0 Command: rm -rf CTdata.buildbin-libdir && mkdir CTdata.buildbin-libdir && /Users/biocbuild/BBS/utils/build-universal.sh CTdata_1.4.0.tar.gz /Library/Frameworks/R.framework/Resources/bin/R CTdata.buildbin-libdir StartedAt: 2024-10-17 15:56:58 -0400 (Thu, 17 Oct 2024) EndedAt: 2024-10-17 15:57:35 -0400 (Thu, 17 Oct 2024) EllapsedTime: 36.8 seconds RetCode: 0 Status: OK PackageFile: CTdata_1.4.0.tgz PackageFileSize: 450.5 KiB