Package: CTdata Version: 1.4.0 Command: /Library/Frameworks/R.framework/Resources/bin/R CMD build --keep-empty-dirs --no-resave-data CTdata StartedAt: 2024-06-09 16:21:11 -0400 (Sun, 09 Jun 2024) EndedAt: 2024-06-09 16:22:54 -0400 (Sun, 09 Jun 2024) EllapsedTime: 102.9 seconds RetCode: 0 Status: OK PackageFile: CTdata_1.4.0.tar.gz PackageFileSize: 424.6 KiB