Package: CTdata Version: 1.4.0 Command: /home/biocbuild/R/R-beta-2024-04-15_r86425/bin/R CMD INSTALL CTdata StartedAt: 2024-05-08 20:23:35 -0000 (Wed, 08 May 2024) EndedAt: 2024-05-08 20:23:55 -0000 (Wed, 08 May 2024) EllapsedTime: 19.5 seconds RetCode: 0 Status: OK