Package: CTdata Version: 1.4.0 Command: /home/biocbuild/R/R-beta-2024-04-15_r86425/bin/R CMD check --install=check:CTdata.install-out.txt --library=/home/biocbuild/R/R-beta-2024-04-15_r86425/site-library --no-vignettes --timings CTdata_1.4.0.tar.gz StartedAt: 2024-05-09 06:21:43 -0000 (Thu, 09 May 2024) EndedAt: 2024-05-09 06:24:01 -0000 (Thu, 09 May 2024) EllapsedTime: 138.2 seconds RetCode: 0 Status: OK CheckDir: CTdata.Rcheck Warnings: 0