Package: CTdata Version: 1.4.0 Command: /home/biocbuild/R/R-beta-2024-04-15_r86425/bin/R CMD build --keep-empty-dirs --no-resave-data CTdata StartedAt: 2024-05-08 23:38:15 -0000 (Wed, 08 May 2024) EndedAt: 2024-05-08 23:40:17 -0000 (Wed, 08 May 2024) EllapsedTime: 121.2 seconds RetCode: 0 Status: OK PackageFile: CTdata_1.4.0.tar.gz PackageFileSize: 522.1 KiB