Package: CTSV Version: 1.6.0 Command: /home/biocbuild/bbs-3.19-bioc/R/bin/R CMD build --keep-empty-dirs --no-resave-data CTSV StartedAt: 2024-10-16 18:01:52 -0400 (Wed, 16 Oct 2024) EndedAt: 2024-10-16 18:02:38 -0400 (Wed, 16 Oct 2024) EllapsedTime: 46.1 seconds RetCode: 0 Status: OK PackageFile: CTSV_1.6.0.tar.gz PackageFileSize: 303.5 KiB