Package: CTDquerier Version: 2.12.0 Command: /home/biocbuild/bbs-3.19-bioc/R/bin/R CMD INSTALL CTDquerier StartedAt: 2024-10-16 16:00:53 -0400 (Wed, 16 Oct 2024) EndedAt: 2024-10-16 16:01:01 -0400 (Wed, 16 Oct 2024) EllapsedTime: 8.6 seconds RetCode: 0 Status: OK