Package: CTDquerier Version: 2.12.0 Command: /home/biocbuild/bbs-3.19-bioc/R/bin/R CMD check --install=check:CTDquerier.install-out.txt --library=/home/biocbuild/bbs-3.19-bioc/R/site-library --timings CTDquerier_2.12.0.tar.gz StartedAt: 2024-10-16 23:16:38 -0400 (Wed, 16 Oct 2024) EndedAt: 2024-10-16 23:42:49 -0400 (Wed, 16 Oct 2024) EllapsedTime: 1570.2 seconds RetCode: 0 Status: WARNINGS CheckDir: CTDquerier.Rcheck Warnings: 1