Package: CTDquerier Version: 2.12.0 Command: /Library/Frameworks/R.framework/Resources/bin/R CMD check --install=check:CTDquerier.install-out.txt --library=/Library/Frameworks/R.framework/Resources/library --no-vignettes --timings CTDquerier_2.12.0.tar.gz StartedAt: 2024-10-17 03:34:18 -0400 (Thu, 17 Oct 2024) EndedAt: 2024-10-17 03:38:36 -0400 (Thu, 17 Oct 2024) EllapsedTime: 258.3 seconds RetCode: 0 Status: WARNINGS CheckDir: CTDquerier.Rcheck Warnings: 1