Package: CTDquerier Version: 2.12.0 Command: /Library/Frameworks/R.framework/Resources/bin/R CMD build --keep-empty-dirs --no-resave-data CTDquerier StartedAt: 2024-10-16 18:20:52 -0400 (Wed, 16 Oct 2024) EndedAt: 2024-10-16 18:20:57 -0400 (Wed, 16 Oct 2024) EllapsedTime: 5.1 seconds RetCode: 0 Status: OK PackageFile: CTDquerier_2.12.0.tar.gz PackageFileSize: 2.803 MiB