Package: CTDquerier Version: 2.12.0 Command: /home/biocbuild/R/R-beta-2024-04-15_r86425/bin/R CMD INSTALL CTDquerier StartedAt: 2024-05-08 20:17:09 -0000 (Wed, 08 May 2024) EndedAt: 2024-05-08 20:17:28 -0000 (Wed, 08 May 2024) EllapsedTime: 19.1 seconds RetCode: 0 Status: OK