Package: CTDquerier Version: 2.12.0 Command: /home/biocbuild/R/R-beta-2024-04-15_r86425/bin/R CMD check --install=check:CTDquerier.install-out.txt --library=/home/biocbuild/R/R-beta-2024-04-15_r86425/site-library --no-vignettes --timings CTDquerier_2.12.0.tar.gz StartedAt: 2024-05-09 06:21:48 -0000 (Thu, 09 May 2024) EndedAt: 2024-05-09 06:23:54 -0000 (Thu, 09 May 2024) EllapsedTime: 126.2 seconds RetCode: 0 Status: WARNINGS CheckDir: CTDquerier.Rcheck Warnings: 1