Package: CTDquerier Version: 2.12.0 Command: /home/biocbuild/R/R-beta-2024-04-15_r86425/bin/R CMD build --keep-empty-dirs --no-resave-data CTDquerier StartedAt: 2024-05-08 23:38:24 -0000 (Wed, 08 May 2024) EndedAt: 2024-05-08 23:38:27 -0000 (Wed, 08 May 2024) EllapsedTime: 3.0 seconds RetCode: 0 Status: OK PackageFile: CTDquerier_2.12.0.tar.gz PackageFileSize: 2.803 MiB