Package: CTDquerier Version: 2.12.0 Command: rm -rf CTDquerier.buildbin-libdir && mkdir CTDquerier.buildbin-libdir && /Users/biocbuild/BBS/utils/build-universal.sh CTDquerier_2.12.0.tar.gz /Library/Frameworks/R.framework/Resources/bin/R CTDquerier.buildbin-libdir StartedAt: 2024-06-11 10:47:24 -0400 (Tue, 11 Jun 2024) EndedAt: 2024-06-11 10:47:41 -0400 (Tue, 11 Jun 2024) EllapsedTime: 16.8 seconds RetCode: 0 Status: OK PackageFile: CTDquerier_2.12.0.tgz PackageFileSize: 2.717 MiB