Package: CTDquerier Version: 2.12.0 Command: rm -rf CTDquerier.buildbin-libdir && mkdir CTDquerier.buildbin-libdir && /Users/biocbuild/BBS/utils/build-universal.sh CTDquerier_2.12.0.tar.gz /Library/Frameworks/R.framework/Resources/bin/R CTDquerier.buildbin-libdir StartedAt: 2024-10-18 18:01:23 -0400 (Fri, 18 Oct 2024) EndedAt: 2024-10-18 18:01:36 -0400 (Fri, 18 Oct 2024) EllapsedTime: 12.7 seconds RetCode: 0 Status: OK PackageFile: CTDquerier_2.12.0.tgz PackageFileSize: 2.712 MiB