Package: CSSQ Version: 1.16.0 Command: E:\biocbuild\bbs-3.19-bioc\R\bin\R.exe CMD check --no-multiarch --install=check:CSSQ.install-out.txt --library=E:\biocbuild\bbs-3.19-bioc\R\library --no-vignettes --timings CSSQ_1.16.0.tar.gz StartedAt: 2024-10-17 00:26:48 -0400 (Thu, 17 Oct 2024) EndedAt: 2024-10-17 00:35:38 -0400 (Thu, 17 Oct 2024) EllapsedTime: 530.3 seconds RetCode: 0 Status: OK CheckDir: CSSQ.Rcheck Warnings: 0