Package: CSSQ Version: 1.16.0 Command: F:\biocbuild\bbs-3.19-bioc\R\bin\R.exe CMD INSTALL CSSQ StartedAt: 2024-06-26 16:05:03 -0400 (Wed, 26 Jun 2024) EndedAt: 2024-06-26 16:05:49 -0400 (Wed, 26 Jun 2024) EllapsedTime: 45.9 seconds RetCode: 0 Status: OK