Package: CSSQ Version: 1.16.0 Command: rm -rf CSSQ.buildbin-libdir && mkdir CSSQ.buildbin-libdir && F:\biocbuild\bbs-3.19-bioc\R\bin\R.exe CMD INSTALL --build --library=CSSQ.buildbin-libdir CSSQ_1.16.0.tar.gz StartedAt: 2024-06-27 08:03:44 -0400 (Thu, 27 Jun 2024) EndedAt: 2024-06-27 08:04:41 -0400 (Thu, 27 Jun 2024) EllapsedTime: 57.5 seconds RetCode: 0 Status: OK PackageFile: CSSQ_1.16.0.zip PackageFileSize: 930.7 KiB