Package: CSSQ Version: 1.16.0 Command: /home/biocbuild/bbs-3.19-bioc/R/bin/R CMD build --keep-empty-dirs --no-resave-data CSSQ StartedAt: 2024-10-16 18:00:56 -0400 (Wed, 16 Oct 2024) EndedAt: 2024-10-16 18:01:52 -0400 (Wed, 16 Oct 2024) EllapsedTime: 56.1 seconds RetCode: 0 Status: OK PackageFile: CSSQ_1.16.0.tar.gz PackageFileSize: 866 KiB