Package: CSAR Version: 1.56.0 Command: rm -rf CSAR.buildbin-libdir && mkdir CSAR.buildbin-libdir && E:\biocbuild\bbs-3.19-bioc\R\bin\R.exe CMD INSTALL --build --library=CSAR.buildbin-libdir CSAR_1.56.0.tar.gz StartedAt: 2024-10-17 07:36:47 -0400 (Thu, 17 Oct 2024) EndedAt: 2024-10-17 07:37:05 -0400 (Thu, 17 Oct 2024) EllapsedTime: 17.8 seconds RetCode: 0 Status: OK PackageFile: CSAR_1.56.0.zip PackageFileSize: 191.2 KiB