Package: CSAR Version: 1.56.0 Command: chmod a+r CSAR -R && F:\biocbuild\bbs-3.19-bioc\R\bin\R.exe CMD build --keep-empty-dirs --no-resave-data CSAR StartedAt: 2024-06-26 18:04:41 -0400 (Wed, 26 Jun 2024) EndedAt: 2024-06-26 18:05:17 -0400 (Wed, 26 Jun 2024) EllapsedTime: 36.4 seconds RetCode: 0 Status: OK PackageFile: CSAR_1.56.0.tar.gz PackageFileSize: 111.3 KiB