Package: CSAR Version: 1.56.0 Command: /home/biocbuild/bbs-3.19-bioc/R/bin/R CMD build --keep-empty-dirs --no-resave-data CSAR StartedAt: 2024-10-16 18:00:28 -0400 (Wed, 16 Oct 2024) EndedAt: 2024-10-16 18:00:56 -0400 (Wed, 16 Oct 2024) EllapsedTime: 28.0 seconds RetCode: 0 Status: OK PackageFile: CSAR_1.56.0.tar.gz PackageFileSize: 110.7 KiB