Package: CSAR Version: 1.56.0 Command: /Library/Frameworks/R.framework/Resources/bin/R CMD INSTALL CSAR StartedAt: 2024-10-16 15:17:46 -0400 (Wed, 16 Oct 2024) EndedAt: 2024-10-16 15:18:10 -0400 (Wed, 16 Oct 2024) EllapsedTime: 24.3 seconds RetCode: 0 Status: OK