Package: CSAR Version: 1.56.0 Command: rm -rf CSAR.buildbin-libdir && mkdir CSAR.buildbin-libdir && /Users/biocbuild/BBS/utils/build-universal.sh CSAR_1.56.0.tar.gz /Library/Frameworks/R.framework/Resources/bin/R CSAR.buildbin-libdir StartedAt: 2024-10-17 15:56:44 -0400 (Thu, 17 Oct 2024) EndedAt: 2024-10-17 15:57:10 -0400 (Thu, 17 Oct 2024) EllapsedTime: 26.7 seconds RetCode: 0 Status: OK PackageFile: CSAR_1.56.0.tgz PackageFileSize: 302.7 KiB