Package: CSAR Version: 1.56.0 Command: /Library/Frameworks/R.framework/Resources/bin/R CMD check --install=check:CSAR.install-out.txt --library=/Library/Frameworks/R.framework/Resources/library --no-vignettes --timings CSAR_1.56.0.tar.gz StartedAt: 2024-10-17 18:10:13 -0400 (Thu, 17 Oct 2024) EndedAt: 2024-10-17 18:13:11 -0400 (Thu, 17 Oct 2024) EllapsedTime: 177.9 seconds RetCode: 0 Status: OK CheckDir: CSAR.Rcheck Warnings: 0