Package: CRImage Version: 1.52.0 Command: /home/biocbuild/bbs-3.19-bioc/R/bin/R CMD INSTALL CRImage StartedAt: 2024-10-16 16:32:39 -0400 (Wed, 16 Oct 2024) EndedAt: 2024-10-16 16:32:49 -0400 (Wed, 16 Oct 2024) EllapsedTime: 9.9 seconds RetCode: 0 Status: OK