Package: CRImage Version: 1.52.0 Command: /Library/Frameworks/R.framework/Resources/bin/R CMD check --install=check:CRImage.install-out.txt --library=/Library/Frameworks/R.framework/Resources/library --no-vignettes --timings CRImage_1.52.0.tar.gz StartedAt: 2024-10-17 03:24:37 -0400 (Thu, 17 Oct 2024) EndedAt: 2024-10-17 03:27:51 -0400 (Thu, 17 Oct 2024) EllapsedTime: 193.3 seconds RetCode: 0 Status: OK CheckDir: CRImage.Rcheck Warnings: 0