Package: CRImage Version: 1.52.0 Command: /Library/Frameworks/R.framework/Resources/bin/R CMD INSTALL CRImage StartedAt: 2024-06-09 17:02:44 -0400 (Sun, 09 Jun 2024) EndedAt: 2024-06-09 17:03:00 -0400 (Sun, 09 Jun 2024) EllapsedTime: 16.3 seconds RetCode: 0 Status: OK