Package: CRImage Version: 1.52.0 Command: /Library/Frameworks/R.framework/Resources/bin/R CMD INSTALL CRImage StartedAt: 2024-10-16 18:06:43 -0400 (Wed, 16 Oct 2024) EndedAt: 2024-10-16 18:06:55 -0400 (Wed, 16 Oct 2024) EllapsedTime: 12.0 seconds RetCode: 0 Status: OK