Package: CRImage Version: 1.52.0 Command: /Library/Frameworks/R.framework/Resources/bin/R CMD build --keep-empty-dirs --no-resave-data CRImage StartedAt: 2024-10-16 22:20:34 -0400 (Wed, 16 Oct 2024) EndedAt: 2024-10-16 22:21:07 -0400 (Wed, 16 Oct 2024) EllapsedTime: 33.1 seconds RetCode: 0 Status: OK PackageFile: CRImage_1.52.0.tar.gz PackageFileSize: 7.651 MiB