Package: CRISPRball Version: 1.0.0 Command: /Library/Frameworks/R.framework/Resources/bin/R CMD build --keep-empty-dirs --no-resave-data CRISPRball StartedAt: 2024-10-16 18:17:23 -0400 (Wed, 16 Oct 2024) EndedAt: 2024-10-16 18:19:53 -0400 (Wed, 16 Oct 2024) EllapsedTime: 149.8 seconds RetCode: 0 Status: OK PackageFile: CRISPRball_1.0.0.tar.gz PackageFileSize: 2.614 MiB