Package: CRISPRball Version: 1.0.0 Command: /Library/Frameworks/R.framework/Resources/bin/R CMD INSTALL CRISPRball StartedAt: 2024-06-09 17:23:32 -0400 (Sun, 09 Jun 2024) EndedAt: 2024-06-09 17:24:45 -0400 (Sun, 09 Jun 2024) EllapsedTime: 72.7 seconds RetCode: 0 Status: OK