Package: COSNet Version: 1.38.0 Command: rm -rf COSNet.buildbin-libdir && mkdir COSNet.buildbin-libdir && F:\biocbuild\bbs-3.19-bioc\R\bin\R.exe CMD INSTALL --build --library=COSNet.buildbin-libdir COSNet_1.38.0.tar.gz StartedAt: 2024-06-27 08:02:56 -0400 (Thu, 27 Jun 2024) EndedAt: 2024-06-27 08:03:10 -0400 (Thu, 27 Jun 2024) EllapsedTime: 13.9 seconds RetCode: 0 Status: OK PackageFile: COSNet_1.38.0.zip PackageFileSize: 332.3 KiB