Package: COSNet Version: 1.38.0 Command: /Library/Frameworks/R.framework/Resources/bin/R CMD check --install=check:COSNet.install-out.txt --library=/Library/Frameworks/R.framework/Resources/library --no-vignettes --timings COSNet_1.38.0.tar.gz StartedAt: 2024-06-09 19:38:45 -0400 (Sun, 09 Jun 2024) EndedAt: 2024-06-09 19:39:33 -0400 (Sun, 09 Jun 2024) EllapsedTime: 47.2 seconds RetCode: 0 Status: WARNINGS CheckDir: COSNet.Rcheck Warnings: 1