Package: COSNet Version: 1.38.0 Command: /Library/Frameworks/R.framework/Resources/bin/R CMD build --keep-empty-dirs --no-resave-data COSNet StartedAt: 2024-06-09 16:19:20 -0400 (Sun, 09 Jun 2024) EndedAt: 2024-06-09 16:24:10 -0400 (Sun, 09 Jun 2024) EllapsedTime: 290.0 seconds RetCode: 0 Status: OK PackageFile: COSNet_1.38.0.tar.gz PackageFileSize: 519.6 KiB