Package: CORREP Version: 1.70.0 Command: E:\biocbuild\bbs-3.19-bioc\R\bin\R.exe CMD check --no-multiarch --install=check:CORREP.install-out.txt --library=E:\biocbuild\bbs-3.19-bioc\R\library --no-vignettes --timings CORREP_1.70.0.tar.gz StartedAt: 2024-10-17 00:20:52 -0400 (Thu, 17 Oct 2024) EndedAt: 2024-10-17 00:21:22 -0400 (Thu, 17 Oct 2024) EllapsedTime: 29.7 seconds RetCode: 1 Status: ERROR CheckDir: CORREP.Rcheck Warnings: NA