Package: CORREP Version: 1.70.0 Command: rm -rf CORREP.buildbin-libdir && mkdir CORREP.buildbin-libdir && E:\biocbuild\bbs-3.19-bioc\R\bin\R.exe CMD INSTALL --build --library=CORREP.buildbin-libdir CORREP_1.70.0.tar.gz StartedAt: 2024-10-17 07:35:55 -0400 (Thu, 17 Oct 2024) EndedAt: 2024-10-17 07:36:02 -0400 (Thu, 17 Oct 2024) EllapsedTime: 7.3 seconds RetCode: 0 Status: OK PackageFile: CORREP_1.70.0.zip PackageFileSize: 284.7 KiB