Package: CORREP Version: 1.70.0 Command: chmod a+r CORREP -R && F:\biocbuild\bbs-3.19-bioc\R\bin\R.exe CMD build --keep-empty-dirs --no-resave-data CORREP StartedAt: 2024-06-26 18:01:20 -0400 (Wed, 26 Jun 2024) EndedAt: 2024-06-26 18:01:36 -0400 (Wed, 26 Jun 2024) EllapsedTime: 16.0 seconds RetCode: 0 Status: OK PackageFile: CORREP_1.70.0.tar.gz PackageFileSize: 245.7 KiB