Package: CORREP Version: 1.70.0 Command: /home/biocbuild/bbs-3.19-bioc/R/bin/R CMD build --keep-empty-dirs --no-resave-data CORREP StartedAt: 2024-10-16 17:57:53 -0400 (Wed, 16 Oct 2024) EndedAt: 2024-10-16 17:58:04 -0400 (Wed, 16 Oct 2024) EllapsedTime: 11.0 seconds RetCode: 0 Status: OK PackageFile: CORREP_1.70.0.tar.gz PackageFileSize: 242.8 KiB