Package: CORREP Version: 1.70.0 Command: rm -rf CORREP.buildbin-libdir && mkdir CORREP.buildbin-libdir && /Users/biocbuild/BBS/utils/build-universal.sh CORREP_1.70.0.tar.gz /Library/Frameworks/R.framework/Resources/bin/R CORREP.buildbin-libdir StartedAt: 2024-10-17 15:55:20 -0400 (Thu, 17 Oct 2024) EndedAt: 2024-10-17 15:55:26 -0400 (Thu, 17 Oct 2024) EllapsedTime: 6.3 seconds RetCode: 0 Status: OK PackageFile: CORREP_1.70.0.tgz PackageFileSize: 389.2 KiB