Package: CORREP Version: 1.70.0 Command: /Library/Frameworks/R.framework/Resources/bin/R CMD build --keep-empty-dirs --no-resave-data CORREP StartedAt: 2024-06-09 16:18:57 -0400 (Sun, 09 Jun 2024) EndedAt: 2024-06-09 16:19:12 -0400 (Sun, 09 Jun 2024) EllapsedTime: 14.6 seconds RetCode: 0 Status: OK PackageFile: CORREP_1.70.0.tar.gz PackageFileSize: 355.1 KiB