Package: CORREP Version: 1.70.0 Command: /home/biocbuild/R/R-beta-2024-04-15_r86425/bin/R CMD check --install=check:CORREP.install-out.txt --library=/home/biocbuild/R/R-beta-2024-04-15_r86425/site-library --no-vignettes --timings CORREP_1.70.0.tar.gz StartedAt: 2024-05-09 06:13:47 -0000 (Thu, 09 May 2024) EndedAt: 2024-05-09 06:14:07 -0000 (Thu, 09 May 2024) EllapsedTime: 20.0 seconds RetCode: 1 Status: ERROR CheckDir: CORREP.Rcheck Warnings: NA