Package: CORREP Version: 1.70.0 Command: /home/biocbuild/R/R-beta-2024-04-15_r86425/bin/R CMD build --keep-empty-dirs --no-resave-data CORREP StartedAt: 2024-05-08 23:33:38 -0000 (Wed, 08 May 2024) EndedAt: 2024-05-08 23:33:54 -0000 (Wed, 08 May 2024) EllapsedTime: 16.0 seconds RetCode: 0 Status: OK PackageFile: CORREP_1.70.0.tar.gz PackageFileSize: 341.1 KiB