Package: CORREP Version: 1.70.0 Command: /Library/Frameworks/R.framework/Resources/bin/R CMD INSTALL CORREP StartedAt: 2024-10-16 15:40:23 -0400 (Wed, 16 Oct 2024) EndedAt: 2024-10-16 15:40:27 -0400 (Wed, 16 Oct 2024) EllapsedTime: 4.6 seconds RetCode: 0 Status: OK