Package: CORREP Version: 1.70.0 Command: /Library/Frameworks/R.framework/Resources/bin/R CMD check --install=check:CORREP.install-out.txt --library=/Library/Frameworks/R.framework/Resources/library --no-vignettes --timings CORREP_1.70.0.tar.gz StartedAt: 2024-10-17 17:29:15 -0400 (Thu, 17 Oct 2024) EndedAt: 2024-10-17 17:29:46 -0400 (Thu, 17 Oct 2024) EllapsedTime: 31.1 seconds RetCode: 1 Status: ERROR CheckDir: CORREP.Rcheck Warnings: NA