Package: CONSTANd Version: 1.12.0 Command: E:\biocbuild\bbs-3.19-bioc\R\bin\R.exe CMD INSTALL CONSTANd StartedAt: 2024-10-16 15:59:12 -0400 (Wed, 16 Oct 2024) EndedAt: 2024-10-16 15:59:32 -0400 (Wed, 16 Oct 2024) EllapsedTime: 20.6 seconds RetCode: 0 Status: OK