Package: CONSTANd Version: 1.12.0 Command: E:\biocbuild\bbs-3.19-bioc\R\bin\R.exe CMD check --no-multiarch --install=check:CONSTANd.install-out.txt --library=E:\biocbuild\bbs-3.19-bioc\R\library --no-vignettes --timings CONSTANd_1.12.0.tar.gz StartedAt: 2024-10-17 00:19:04 -0400 (Thu, 17 Oct 2024) EndedAt: 2024-10-17 00:19:28 -0400 (Thu, 17 Oct 2024) EllapsedTime: 23.8 seconds RetCode: 0 Status: OK CheckDir: CONSTANd.Rcheck Warnings: 0