Package: CONSTANd Version: 1.12.0 Command: chmod a+r CONSTANd -R && E:\biocbuild\bbs-3.19-bioc\R\bin\R.exe CMD build --keep-empty-dirs --no-resave-data CONSTANd StartedAt: 2024-10-16 18:22:56 -0400 (Wed, 16 Oct 2024) EndedAt: 2024-10-16 18:23:11 -0400 (Wed, 16 Oct 2024) EllapsedTime: 15.0 seconds RetCode: 0 Status: OK PackageFile: CONSTANd_1.12.0.tar.gz PackageFileSize: 1.804 MiB