Package: CONFESS Version: 1.32.0 Command: E:\biocbuild\bbs-3.19-bioc\R\bin\R.exe CMD INSTALL CONFESS StartedAt: 2024-10-16 17:00:46 -0400 (Wed, 16 Oct 2024) EndedAt: 2024-10-16 17:01:55 -0400 (Wed, 16 Oct 2024) EllapsedTime: 69.6 seconds RetCode: 0 Status: OK