Package: CONFESS Version: 1.32.0 Command: chmod a+r CONFESS -R && E:\biocbuild\bbs-3.19-bioc\R\bin\R.exe CMD build --keep-empty-dirs --no-resave-data CONFESS StartedAt: 2024-10-16 18:22:08 -0400 (Wed, 16 Oct 2024) EndedAt: 2024-10-16 18:25:35 -0400 (Wed, 16 Oct 2024) EllapsedTime: 207.2 seconds RetCode: 0 Status: OK PackageFile: CONFESS_1.32.0.tar.gz PackageFileSize: 3.591 MiB